Package: IsoCorrectoRGUI Version: 1.18.0 Command: /Library/Frameworks/R.framework/Resources/bin/R CMD INSTALL IsoCorrectoRGUI StartedAt: 2024-03-03 15:09:36 -0500 (Sun, 03 Mar 2024) EndedAt: 2024-03-03 15:09:51 -0500 (Sun, 03 Mar 2024) EllapsedTime: 15.3 seconds RetCode: 0 Status: OK