Package: IsoCorrectoRGUI Version: 1.18.0 Command: /home/biocbuild/R/R-4.3.1/bin/R CMD build --keep-empty-dirs --no-resave-data IsoCorrectoRGUI StartedAt: 2023-11-02 02:30:06 -0000 (Thu, 02 Nov 2023) EndedAt: 2023-11-02 02:30:16 -0000 (Thu, 02 Nov 2023) EllapsedTime: 10.0 seconds RetCode: 0 Status: OK PackageFile: IsoCorrectoRGUI_1.18.0.tar.gz PackageFileSize: 464.2 KiB