Package: IsoBayes Version: 1.0.1 Command: /Library/Frameworks/R.framework/Resources/bin/R CMD build --keep-empty-dirs --no-resave-data IsoBayes StartedAt: 2024-03-03 17:09:40 -0500 (Sun, 03 Mar 2024) EndedAt: 2024-03-03 17:11:48 -0500 (Sun, 03 Mar 2024) EllapsedTime: 127.9 seconds RetCode: 0 Status: OK PackageFile: IsoBayes_1.0.1.tar.gz PackageFileSize: 1.471 MiB