Package: InteractionSet Version: 1.30.0 Command: /home/biocbuild/bbs-3.18-bioc/R/bin/R CMD build --keep-empty-dirs --no-resave-data InteractionSet StartedAt: 2024-04-15 17:37:33 -0400 (Mon, 15 Apr 2024) EndedAt: 2024-04-15 17:38:34 -0400 (Mon, 15 Apr 2024) EllapsedTime: 60.8 seconds RetCode: 0 Status: OK PackageFile: InteractionSet_1.30.0.tar.gz PackageFileSize: 391.2 KiB