Package: InterMineR Version: 1.24.0 Command: chmod a+r InterMineR -R && F:\biocbuild\bbs-3.18-bioc\R\bin\R.exe CMD build --keep-empty-dirs --no-resave-data InterMineR StartedAt: 2024-04-15 19:10:18 -0400 (Mon, 15 Apr 2024) EndedAt: 2024-04-15 19:11:32 -0400 (Mon, 15 Apr 2024) EllapsedTime: 74.2 seconds RetCode: 0 Status: OK PackageFile: InterMineR_1.24.0.tar.gz PackageFileSize: 4.896 MiB