Package: InterMineR Version: 1.24.0 Command: /home/biocbuild/bbs-3.18-bioc/R/bin/R CMD build --keep-empty-dirs --no-resave-data InterMineR StartedAt: 2024-04-15 17:38:12 -0400 (Mon, 15 Apr 2024) EndedAt: 2024-04-15 17:39:22 -0400 (Mon, 15 Apr 2024) EllapsedTime: 70.7 seconds RetCode: 0 Status: OK PackageFile: InterMineR_1.24.0.tar.gz PackageFileSize: 4.91 MiB