Package: InterMineR Version: 1.24.0 Command: /Library/Frameworks/R.framework/Resources/bin/R CMD build --keep-empty-dirs --no-resave-data InterMineR StartedAt: 2024-04-15 19:31:36 -0400 (Mon, 15 Apr 2024) EndedAt: 2024-04-15 19:33:36 -0400 (Mon, 15 Apr 2024) EllapsedTime: 119.3 seconds RetCode: 0 Status: OK PackageFile: InterMineR_1.24.0.tar.gz PackageFileSize: 4.918 MiB