Package: InterCellar Version: 2.8.0 Command: /Library/Frameworks/R.framework/Resources/bin/R CMD INSTALL InterCellar StartedAt: 2024-03-03 15:42:24 -0500 (Sun, 03 Mar 2024) EndedAt: 2024-03-03 15:43:04 -0500 (Sun, 03 Mar 2024) EllapsedTime: 40.3 seconds RetCode: 0 Status: OK