Package: IntOMICS Version: 1.2.0 Command: F:\biocbuild\bbs-3.18-bioc\R\bin\R.exe CMD check --no-multiarch --install=check:IntOMICS.install-out.txt --library=F:\biocbuild\bbs-3.18-bioc\R\library --no-vignettes --timings IntOMICS_1.2.0.tar.gz StartedAt: 2024-01-03 02:52:59 -0500 (Wed, 03 Jan 2024) EndedAt: 2024-01-03 02:56:54 -0500 (Wed, 03 Jan 2024) EllapsedTime: 234.5 seconds RetCode: 0 Status: WARNINGS CheckDir: IntOMICS.Rcheck Warnings: 1