Package: IntOMICS Version: 1.2.0 Command: rm -rf IntOMICS.buildbin-libdir && mkdir IntOMICS.buildbin-libdir && F:\biocbuild\bbs-3.18-bioc\R\bin\R.exe CMD INSTALL --build --library=IntOMICS.buildbin-libdir IntOMICS_1.2.0.tar.gz StartedAt: 2024-01-03 08:33:56 -0500 (Wed, 03 Jan 2024) EndedAt: 2024-01-03 08:34:37 -0500 (Wed, 03 Jan 2024) EllapsedTime: 41.2 seconds RetCode: 0 Status: OK PackageFile: IntOMICS_1.2.0.zip PackageFileSize: 2.572 MiB