Package: IntEREst Version: 1.26.0 Command: F:\biocbuild\bbs-3.18-bioc\R\bin\R.exe CMD INSTALL IntEREst StartedAt: 2024-04-15 16:31:19 -0400 (Mon, 15 Apr 2024) EndedAt: 2024-04-15 16:32:32 -0400 (Mon, 15 Apr 2024) EllapsedTime: 73.2 seconds RetCode: 0 Status: OK