Package: Informeasure Version: 1.12.1 Command: F:\biocbuild\bbs-3.18-bioc\R\bin\R.exe CMD INSTALL Informeasure StartedAt: 2024-04-15 15:37:21 -0400 (Mon, 15 Apr 2024) EndedAt: 2024-04-15 15:37:44 -0400 (Mon, 15 Apr 2024) EllapsedTime: 23.0 seconds RetCode: 0 Status: OK