Package: InPAS Version: 2.10.0 Command: /home/biocbuild/R/R-4.3.1/bin/R CMD build --keep-empty-dirs --no-resave-data InPAS StartedAt: 2023-11-02 02:22:27 -0000 (Thu, 02 Nov 2023) EndedAt: 2023-11-02 02:26:19 -0000 (Thu, 02 Nov 2023) EllapsedTime: 231.3 seconds RetCode: 0 Status: OK PackageFile: InPAS_2.10.0.tar.gz PackageFileSize: 1.443 MiB