Package: ImmuneSpaceR Version: 1.30.0 Command: /Library/Frameworks/R.framework/Resources/bin/R CMD build --keep-empty-dirs --no-resave-data ImmuneSpaceR StartedAt: 2024-03-03 17:05:38 -0500 (Sun, 03 Mar 2024) EndedAt: 2024-03-03 17:06:07 -0500 (Sun, 03 Mar 2024) EllapsedTime: 29.3 seconds RetCode: 1 Status: ERROR PackageFile: None PackageFileSize: NA