Package: ImmuneSpaceR Version: 1.30.0 Command: /home/biocbuild/R/R-4.3.1/bin/R CMD check --install=check:ImmuneSpaceR.install-out.txt --library=/home/biocbuild/R/R-4.3.1/site-library --no-vignettes --timings ImmuneSpaceR_1.30.0.tar.gz StartedAt: 2023-11-02 11:25:04 -0000 (Thu, 02 Nov 2023) EndedAt: 2023-11-02 11:26:54 -0000 (Thu, 02 Nov 2023) EllapsedTime: 110.2 seconds RetCode: 0 Status: OK CheckDir: ImmuneSpaceR.Rcheck Warnings: 0