Package: IdeoViz Version: 1.38.0 Command: chmod a+r IdeoViz -R && F:\biocbuild\bbs-3.18-bioc\R\bin\R.exe CMD build --keep-empty-dirs --no-resave-data IdeoViz StartedAt: 2024-04-15 19:05:21 -0400 (Mon, 15 Apr 2024) EndedAt: 2024-04-15 19:06:08 -0400 (Mon, 15 Apr 2024) EllapsedTime: 46.6 seconds RetCode: 1 Status: ERROR PackageFile: None PackageFileSize: NA