Package: IdeoViz Version: 1.37.0 Command: rm -rf IdeoViz.buildbin-libdir && mkdir IdeoViz.buildbin-libdir && /Users/biocbuild/BBS/utils/build-universal.sh IdeoViz_1.37.0.tar.gz /Library/Frameworks/R.framework/Resources/bin/R IdeoViz.buildbin-libdir StartedAt: 2023-10-22 23:48:14 -0400 (Sun, 22 Oct 2023) EndedAt: 2023-10-22 23:48:56 -0400 (Sun, 22 Oct 2023) EllapsedTime: 42.6 seconds RetCode: 0 Status: OK PackageFile: IdeoViz_1.37.0.tgz PackageFileSize: 1.04 MiB