Package: IWTomics Version: 1.26.0 Command: /home/biocbuild/bbs-3.18-bioc/R/bin/R CMD build --keep-empty-dirs --no-resave-data IWTomics StartedAt: 2024-04-15 17:41:04 -0400 (Mon, 15 Apr 2024) EndedAt: 2024-04-15 17:42:39 -0400 (Mon, 15 Apr 2024) EllapsedTime: 95.9 seconds RetCode: 0 Status: OK PackageFile: IWTomics_1.26.0.tar.gz PackageFileSize: 1.245 MiB