Package: IWTomics Version: 1.26.0 Command: /Library/Frameworks/R.framework/Resources/bin/R CMD check --install=check:IWTomics.install-out.txt --library=/Library/Frameworks/R.framework/Resources/library --no-vignettes --timings IWTomics_1.26.0.tar.gz StartedAt: 2024-04-16 04:30:24 -0400 (Tue, 16 Apr 2024) EndedAt: 2024-04-16 04:38:11 -0400 (Tue, 16 Apr 2024) EllapsedTime: 467.8 seconds RetCode: 0 Status: WARNINGS CheckDir: IWTomics.Rcheck Warnings: 1