Package: IWTomics Version: 1.26.0 Command: /Library/Frameworks/R.framework/Resources/bin/R CMD INSTALL IWTomics StartedAt: 2024-03-03 15:44:01 -0500 (Sun, 03 Mar 2024) EndedAt: 2024-03-03 15:44:25 -0500 (Sun, 03 Mar 2024) EllapsedTime: 23.9 seconds RetCode: 0 Status: OK