Package: IWTomics Version: 1.26.0 Command: /home/biocbuild/R/R-4.3.1/bin/R CMD INSTALL IWTomics StartedAt: 2023-11-01 21:02:39 -0000 (Wed, 01 Nov 2023) EndedAt: 2023-11-01 21:03:02 -0000 (Wed, 01 Nov 2023) EllapsedTime: 23.5 seconds RetCode: 0 Status: OK