Package: IWTomics Version: 1.26.0 Command: /home/biocbuild/R/R-4.3.1/bin/R CMD check --install=check:IWTomics.install-out.txt --library=/home/biocbuild/R/R-4.3.1/site-library --no-vignettes --timings IWTomics_1.26.0.tar.gz StartedAt: 2023-11-02 11:36:25 -0000 (Thu, 02 Nov 2023) EndedAt: 2023-11-02 11:41:27 -0000 (Thu, 02 Nov 2023) EllapsedTime: 301.7 seconds RetCode: 0 Status: WARNINGS CheckDir: IWTomics.Rcheck Warnings: 1