Package: IWTomics Version: 1.26.0 Command: /home/biocbuild/R/R-4.3.1/bin/R CMD build --keep-empty-dirs --no-resave-data IWTomics StartedAt: 2023-11-02 02:33:40 -0000 (Thu, 02 Nov 2023) EndedAt: 2023-11-02 02:36:28 -0000 (Thu, 02 Nov 2023) EllapsedTime: 168.2 seconds RetCode: 0 Status: OK PackageFile: IWTomics_1.26.0.tar.gz PackageFileSize: 1.387 MiB