Package: IVAS Version: 2.22.0 Command: /Library/Frameworks/R.framework/Resources/bin/R CMD INSTALL IVAS StartedAt: 2024-04-15 16:03:06 -0400 (Mon, 15 Apr 2024) EndedAt: 2024-04-15 16:04:43 -0400 (Mon, 15 Apr 2024) EllapsedTime: 96.7 seconds RetCode: 0 Status: OK