Package: ISoLDE Version: 1.30.0 Command: /home/biocbuild/R/R-4.3.1/bin/R CMD build --keep-empty-dirs --no-resave-data ISoLDE StartedAt: 2023-11-02 02:30:29 -0000 (Thu, 02 Nov 2023) EndedAt: 2023-11-02 02:30:30 -0000 (Thu, 02 Nov 2023) EllapsedTime: 1.0 seconds RetCode: 0 Status: OK PackageFile: ISoLDE_1.30.0.tar.gz PackageFileSize: 1.228 MiB