Package: ISLET Version: 1.4.0 Command: /Library/Frameworks/R.framework/Resources/bin/R CMD build --keep-empty-dirs --no-resave-data ISLET StartedAt: 2024-03-03 17:09:38 -0500 (Sun, 03 Mar 2024) EndedAt: 2024-03-03 17:13:26 -0500 (Sun, 03 Mar 2024) EllapsedTime: 227.7 seconds RetCode: 0 Status: OK PackageFile: ISLET_1.4.0.tar.gz PackageFileSize: 2.185 MiB