Package: ISAnalytics Version: 1.12.0 Command: /Library/Frameworks/R.framework/Resources/bin/R CMD build --keep-empty-dirs --no-resave-data ISAnalytics StartedAt: 2024-04-15 19:32:53 -0400 (Mon, 15 Apr 2024) EndedAt: 2024-04-15 19:38:01 -0400 (Mon, 15 Apr 2024) EllapsedTime: 307.8 seconds RetCode: 0 Status: OK PackageFile: ISAnalytics_1.12.0.tar.gz PackageFileSize: 4.444 MiB