Package: ISAnalytics Version: 1.12.0 Command: rm -rf ISAnalytics.buildbin-libdir && mkdir ISAnalytics.buildbin-libdir && /Users/biocbuild/BBS/utils/build-universal.sh ISAnalytics_1.12.0.tar.gz /Library/Frameworks/R.framework/Resources/bin/R ISAnalytics.buildbin-libdir StartedAt: 2024-04-16 12:02:01 -0400 (Tue, 16 Apr 2024) EndedAt: 2024-04-16 12:03:04 -0400 (Tue, 16 Apr 2024) EllapsedTime: 63.2 seconds RetCode: 0 Status: OK PackageFile: ISAnalytics_1.12.0.tgz PackageFileSize: 5.237 MiB