Package: ISAnalytics Version: 1.12.0 Command: /Library/Frameworks/R.framework/Resources/bin/R CMD INSTALL ISAnalytics StartedAt: 2024-03-03 15:24:19 -0500 (Sun, 03 Mar 2024) EndedAt: 2024-03-03 15:24:51 -0500 (Sun, 03 Mar 2024) EllapsedTime: 32.1 seconds RetCode: 0 Status: OK