Package: ISAnalytics Version: 1.12.0 Command: /Library/Frameworks/R.framework/Resources/bin/R CMD build --keep-empty-dirs --no-resave-data ISAnalytics StartedAt: 2024-03-03 17:08:46 -0500 (Sun, 03 Mar 2024) EndedAt: 2024-03-03 17:11:32 -0500 (Sun, 03 Mar 2024) EllapsedTime: 166.1 seconds RetCode: 0 Status: OK PackageFile: ISAnalytics_1.12.0.tar.gz PackageFileSize: 4.317 MiB