Package: ISAnalytics Version: 1.12.0 Command: /home/biocbuild/R/R-4.3.1/bin/R CMD INSTALL ISAnalytics StartedAt: 2023-11-01 20:34:25 -0000 (Wed, 01 Nov 2023) EndedAt: 2023-11-01 20:34:50 -0000 (Wed, 01 Nov 2023) EllapsedTime: 25.5 seconds RetCode: 0 Status: OK