Package: IRanges Version: 2.36.0 Command: /Library/Frameworks/R.framework/Resources/bin/R CMD INSTALL IRanges StartedAt: 2024-04-15 15:08:34 -0400 (Mon, 15 Apr 2024) EndedAt: 2024-04-15 15:10:29 -0400 (Mon, 15 Apr 2024) EllapsedTime: 114.9 seconds RetCode: 0 Status: OK