Package: IRanges Version: 2.36.0 Command: /Library/Frameworks/R.framework/Resources/bin/R CMD build --keep-empty-dirs --no-resave-data IRanges StartedAt: 2024-04-15 19:32:26 -0400 (Mon, 15 Apr 2024) EndedAt: 2024-04-15 19:35:05 -0400 (Mon, 15 Apr 2024) EllapsedTime: 159.0 seconds RetCode: 0 Status: OK PackageFile: IRanges_2.36.0.tar.gz PackageFileSize: 469.2 KiB