Package: IRanges Version: 2.36.0 Command: rm -rf IRanges.buildbin-libdir && mkdir IRanges.buildbin-libdir && /Users/biocbuild/BBS/utils/build-universal.sh IRanges_2.36.0.tar.gz /Library/Frameworks/R.framework/Resources/bin/R IRanges.buildbin-libdir StartedAt: 2024-04-16 12:02:00 -0400 (Tue, 16 Apr 2024) EndedAt: 2024-04-16 12:05:02 -0400 (Tue, 16 Apr 2024) EllapsedTime: 182.8 seconds RetCode: 0 Status: OK PackageFile: IRanges_2.36.0.tgz PackageFileSize: 2.189 MiB