Package: IRanges Version: 2.36.0 Command: /home/biocbuild/R/R-4.3.1/bin/R CMD INSTALL IRanges StartedAt: 2023-11-01 20:07:23 -0000 (Wed, 01 Nov 2023) EndedAt: 2023-11-01 20:09:05 -0000 (Wed, 01 Nov 2023) EllapsedTime: 101.9 seconds RetCode: 0 Status: OK