Package: IRISFGM Version: 1.10.0 Command: /Library/Frameworks/R.framework/Resources/bin/R CMD INSTALL IRISFGM StartedAt: 2024-03-03 15:42:06 -0500 (Sun, 03 Mar 2024) EndedAt: 2024-03-03 15:43:57 -0500 (Sun, 03 Mar 2024) EllapsedTime: 111.4 seconds RetCode: 0 Status: OK