Package: IRISFGM Version: 1.10.0 Command: /Library/Frameworks/R.framework/Resources/bin/R CMD build --keep-empty-dirs --no-resave-data IRISFGM StartedAt: 2024-03-03 17:08:40 -0500 (Sun, 03 Mar 2024) EndedAt: 2024-03-03 17:10:55 -0500 (Sun, 03 Mar 2024) EllapsedTime: 134.3 seconds RetCode: 1 Status: ERROR PackageFile: None PackageFileSize: NA