Package: IONiseR Version: 2.26.0 Command: /Library/Frameworks/R.framework/Resources/bin/R CMD INSTALL IONiseR StartedAt: 2024-03-03 15:27:21 -0500 (Sun, 03 Mar 2024) EndedAt: 2024-03-03 15:28:09 -0500 (Sun, 03 Mar 2024) EllapsedTime: 48.0 seconds RetCode: 0 Status: OK