Package: INTACT Version: 1.2.0 Command: rm -rf INTACT.buildbin-libdir && mkdir INTACT.buildbin-libdir && F:\biocbuild\bbs-3.18-bioc\R\bin\R.exe CMD INSTALL --build --library=INTACT.buildbin-libdir INTACT_1.2.0.tar.gz StartedAt: 2024-04-16 07:10:10 -0400 (Tue, 16 Apr 2024) EndedAt: 2024-04-16 07:10:20 -0400 (Tue, 16 Apr 2024) EllapsedTime: 9.6 seconds RetCode: 0 Status: OK PackageFile: INTACT_1.2.0.zip PackageFileSize: 313.7 KiB