Package: INTACT Version: 1.2.0 Command: /Library/Frameworks/R.framework/Resources/bin/R CMD check --install=check:INTACT.install-out.txt --library=/Library/Frameworks/R.framework/Resources/library --no-vignettes --timings INTACT_1.2.0.tar.gz StartedAt: 2024-04-16 04:13:03 -0400 (Tue, 16 Apr 2024) EndedAt: 2024-04-16 04:14:00 -0400 (Tue, 16 Apr 2024) EllapsedTime: 56.9 seconds RetCode: 0 Status: OK CheckDir: INTACT.Rcheck Warnings: 0