Package: INTACT Version: 1.2.0 Command: /Library/Frameworks/R.framework/Resources/bin/R CMD build --keep-empty-dirs --no-resave-data INTACT StartedAt: 2024-04-15 19:29:38 -0400 (Mon, 15 Apr 2024) EndedAt: 2024-04-15 19:29:54 -0400 (Mon, 15 Apr 2024) EllapsedTime: 15.3 seconds RetCode: 0 Status: OK PackageFile: INTACT_1.2.0.tar.gz PackageFileSize: 264.9 KiB