Package: INTACT Version: 1.2.0 Maintainer: Jeffrey Okamoto MaintainerEmail: jokamoto at umich.edu git_url: https://git.bioconductor.org/packages/INTACT git_branch: RELEASE_3_18 git_last_commit: 0b5c669 git_last_commit_date: 2023-10-24 11:46:18 -0400 (Tue, 24 Oct 2023)