Package: INSPEcT Version: 1.32.1 Command: /home/biocbuild/bbs-3.18-bioc/R/bin/R CMD build --keep-empty-dirs --no-resave-data INSPEcT StartedAt: 2024-04-15 17:37:00 -0400 (Mon, 15 Apr 2024) EndedAt: 2024-04-15 17:44:05 -0400 (Mon, 15 Apr 2024) EllapsedTime: 424.7 seconds RetCode: 0 Status: OK PackageFile: INSPEcT_1.32.1.tar.gz PackageFileSize: 7.634 MiB