Package: INSPEcT Version: 1.32.1 Command: /Library/Frameworks/R.framework/Resources/bin/R CMD build --keep-empty-dirs --no-resave-data INSPEcT StartedAt: 2024-03-03 17:06:56 -0500 (Sun, 03 Mar 2024) EndedAt: 2024-03-03 17:16:00 -0500 (Sun, 03 Mar 2024) EllapsedTime: 544.1 seconds RetCode: 0 Status: OK PackageFile: INSPEcT_1.32.1.tar.gz PackageFileSize: 7.679 MiB