Package: INPower Version: 1.38.0 Command: /home/biocbuild/bbs-3.18-bioc/R/bin/R CMD INSTALL INPower StartedAt: 2024-04-15 15:08:11 -0400 (Mon, 15 Apr 2024) EndedAt: 2024-04-15 15:08:18 -0400 (Mon, 15 Apr 2024) EllapsedTime: 6.7 seconds RetCode: 0 Status: OK