Package: INPower Version: 1.38.0 Command: /home/biocbuild/bbs-3.18-bioc/R/bin/R CMD build --keep-empty-dirs --no-resave-data INPower StartedAt: 2024-04-15 17:36:55 -0400 (Mon, 15 Apr 2024) EndedAt: 2024-04-15 17:37:00 -0400 (Mon, 15 Apr 2024) EllapsedTime: 5.0 seconds RetCode: 0 Status: OK PackageFile: INPower_1.38.0.tar.gz PackageFileSize: 65.4 KiB