Package: INPower Version: 1.38.0 Command: /Library/Frameworks/R.framework/Resources/bin/R CMD INSTALL INPower StartedAt: 2024-04-15 15:07:51 -0400 (Mon, 15 Apr 2024) EndedAt: 2024-04-15 15:08:19 -0400 (Mon, 15 Apr 2024) EllapsedTime: 27.3 seconds RetCode: 0 Status: OK