Package: INPower Version: 1.38.0 Command: /Library/Frameworks/R.framework/Resources/bin/R CMD build --keep-empty-dirs --no-resave-data INPower StartedAt: 2024-04-15 19:29:14 -0400 (Mon, 15 Apr 2024) EndedAt: 2024-04-15 19:29:38 -0400 (Mon, 15 Apr 2024) EllapsedTime: 24.7 seconds RetCode: 0 Status: OK PackageFile: INPower_1.38.0.tar.gz PackageFileSize: 146.4 KiB