Package: INPower Version: 1.38.0 Command: /Library/Frameworks/R.framework/Resources/bin/R CMD build --keep-empty-dirs --no-resave-data INPower StartedAt: 2024-03-03 17:06:52 -0500 (Sun, 03 Mar 2024) EndedAt: 2024-03-03 17:07:19 -0500 (Sun, 03 Mar 2024) EllapsedTime: 27.5 seconds RetCode: 0 Status: OK PackageFile: INPower_1.38.0.tar.gz PackageFileSize: 146.5 KiB