Package: INPower Version: 1.38.0 Command: rm -rf INPower.buildbin-libdir && mkdir INPower.buildbin-libdir && /Users/biocbuild/BBS/utils/build-universal.sh INPower_1.38.0.tar.gz /Library/Frameworks/R.framework/Resources/bin/R INPower.buildbin-libdir StartedAt: 2024-03-04 00:46:32 -0500 (Mon, 04 Mar 2024) EndedAt: 2024-03-04 00:46:38 -0500 (Mon, 04 Mar 2024) EllapsedTime: 5.8 seconds RetCode: 0 Status: OK PackageFile: INPower_1.38.0.tgz PackageFileSize: 162.7 KiB